BEGIN:VCALENDAR
VERSION:2.0
PRODID:-//eventon.com NONSGML v1.0//EN
BEGIN:VEVENT
UID:69e73ad6ce603
DTSTAMP:20260421T085238
DTSTART:20220528T220000Z
DTEND:20220529T020000Z
TZID:America/Denver
LOCATION:Globe Cinema 617 8 Avenue Southwest  Calgary\,  AB T2P 1H1
SUMMARY:Korean Cultural Heritage Festival 2022
DESCRIPTION: Join us for a special exciting event to celebrate Korean culture and a movie show! Bring your family and friends to have an evening of fun! VENUE: Globe Cinema\,  Calgary Program includes: Korean Movie &#8216;The Miracle&#8217; Modeumbug Chan Lee Taekwondo K-Pop Dance &#8211; Korean Musicians &#8211; Korean Traditional Dance Dragon[..]\nhttps://calgarykoreanwomen.com/events/korean-cultural-heritage-festival-2022/
URL:https://calgarykoreanwomen.com/events/korean-cultural-heritage-festival-2022/
END:VEVENT
END:VCALENDAR