BEGIN:VCALENDAR
VERSION:2.0
PRODID:-//eventon.com NONSGML v1.0//EN
BEGIN:VEVENT
UID:69eb2c84d2c1e
DTSTAMP:20260424T084036
DTSTART:20221122T180000Z
DTEND:20221122T190000Z
TZID:America/Denver
LOCATION:Calgary Art Club Unit 4 3530\,  11A Street NE
SUMMARY:Financial Assistance Programs for Seniors - Session II
DESCRIPTION: This session will help seniors learn about the seniors&#8217; pensions and benefits available at the provincial levels. The session will cover information on dental and optical coverage\,  Alberta seniors&#8217; benefits\,  as well as senior financial assistance. Speaker Bio: Farzana Imran is a Registered Social Worker with a Bachelor&#8217;s degree in[..]\nhttps://calgarykoreanwomen.com/events/financial-assistance-programs-for-seniors-session-ii/
URL:https://calgarykoreanwomen.com/events/financial-assistance-programs-for-seniors-session-ii/
END:VEVENT
END:VCALENDAR