BEGIN:VCALENDAR
VERSION:2.0
PRODID:-//eventon.com NONSGML v1.0//EN
BEGIN:VEVENT
UID:69e73b4b2c5c9
DTSTAMP:20260421T085435
DTSTART:20211008T010000Z
DTEND:20211008T023000Z
TZID:America/Denver
LOCATION:Calgary Art Club Unit 4 3530\,  11A Street NE
SUMMARY:Optimum Nutrition for The Brain: REAL Food for Thought | 뇌를 위한 최적의 영양섭취: 음식
DESCRIPTION: Brain and mental health are very important topics these days as we are seeing an increase in both neurological and mental health conditions. So\,  people are increasingly hungry for what they can do with diet and lifestyle to help. Unfortunately\,  there is a lot of misinformation about the nutrients that[..]\nhttps://calgarykoreanwomen.com/events/optimum-nutrition-for-the-brain-real-food-for-thought-%eb%87%8c%eb%a5%bc-%ec%9c%84%ed%95%9c-%ec%b5%9c%ec%a0%81%ec%9d%98-%ec%98%81%ec%96%91%ec%84%ad%ec%b7%a8-%ec%9d%8c%ec%8b%9d/
URL:https://calgarykoreanwomen.com/events/optimum-nutrition-for-the-brain-real-food-for-thought-%eb%87%8c%eb%a5%bc-%ec%9c%84%ed%95%9c-%ec%b5%9c%ec%a0%81%ec%9d%98-%ec%98%81%ec%96%91%ec%84%ad%ec%b7%a8-%ec%9d%8c%ec%8b%9d/
END:VEVENT
END:VCALENDAR